BEGIN:VCALENDAR
VERSION:2.0
PRODID:-//eLaboratories - ECPv6.15.18//NONSGML v1.0//EN
CALSCALE:GREGORIAN
METHOD:PUBLISH
X-ORIGINAL-URL:https://elaboratories.org
X-WR-CALDESC:Events for eLaboratories
REFRESH-INTERVAL;VALUE=DURATION:PT1H
X-Robots-Tag:noindex
X-PUBLISHED-TTL:PT1H
BEGIN:VTIMEZONE
TZID:America/New_York
BEGIN:DAYLIGHT
TZOFFSETFROM:-0500
TZOFFSETTO:-0400
TZNAME:EDT
DTSTART:20250309T070000
END:DAYLIGHT
BEGIN:STANDARD
TZOFFSETFROM:-0400
TZOFFSETTO:-0500
TZNAME:EST
DTSTART:20251102T060000
END:STANDARD
BEGIN:DAYLIGHT
TZOFFSETFROM:-0500
TZOFFSETTO:-0400
TZNAME:EDT
DTSTART:20260308T070000
END:DAYLIGHT
BEGIN:STANDARD
TZOFFSETFROM:-0400
TZOFFSETTO:-0500
TZNAME:EST
DTSTART:20261101T060000
END:STANDARD
BEGIN:DAYLIGHT
TZOFFSETFROM:-0500
TZOFFSETTO:-0400
TZNAME:EDT
DTSTART:20270314T070000
END:DAYLIGHT
BEGIN:STANDARD
TZOFFSETFROM:-0400
TZOFFSETTO:-0500
TZNAME:EST
DTSTART:20271107T060000
END:STANDARD
END:VTIMEZONE
BEGIN:VEVENT
DTSTART;TZID=America/New_York:20261008T000000
DTEND;TZID=America/New_York:20261010T235959
DTSTAMP:20260420T011704
CREATED:20251215T202305Z
LAST-MODIFIED:20251215T203227Z
UID:10000121-1791417600-1791676799@elaboratories.org
SUMMARY:Recovering the US Hispanic Literary Heritage and Association for Documentary Editing Joint Conference
DESCRIPTION:From October 8–10\, Recovering the US Hispanic Literary Heritage (Recovery) and the Association for Documentary Editing (ADE) will host a joint conference in Houston\, Texas. This first-ever collaboration between Recovery and ADE will bring together scholars\, archivists\, editors\, students and community practitioners to explore how figures and documents—canonical\, forgotten\, official and grassroots—have shaped the histories\, literatures and identities of the United States. \n\n\n\nThe conference theme\, Record Keepers of Nation: Diverse Foundational Figures and Documents of the US\, highlights the intersection\, conflicts and compromises of people\, papers\, voices\, archives and biographies of first nations\, natives\, settlers\, immigrants and exiles that have forged collective memory and national narratives. The conference will emphasize recovery\, preservation and dissemination of the historical records of various communities that expand and unsettle our understanding of the nation’s foundation. \n\n\n\nProposals may be submitted in English or Spanish by January 12 at https://bit.ly/recoveryade26. \n\n\n\n\n\n\n\n\n\n\n\n\n\n\n\n\n\n\n\nEvent Location \n\n\n\nHouston\, Texas \n\n\n\n\n\n\n\nEvent Pricing \n\n\n\nTBA \n\n\n\n\n\n\n\n\n\n\n\n\n\n\n\nAbout the Organizers\n\n\n\nRecovering the US Hispanic Literary Heritage is an international program to locate\, preserve and make available Hispanic culture of the United States in its written form since colonial times until 1980.  \n\n\n\nThe Association for Documentary Editing promotes the publication of a broad range of materials of historical value in print and digital formats and supports cooperation and exchange of ideas among a diverse community of editors.
URL:https://elaboratories.org/event/recovering-the-us-hispanic-literary-heritage-and-association-for-documentary-editing-joint-conference/
LOCATION:University of Houston\, Houston\, Texas
CATEGORIES:Conferences
ATTACH;FMTTYPE=image/jpeg:https://elaboratories.org/wp-content/uploads/2022/06/yellow.jpg
ORGANIZER;CN="Digital Humanities Summer Institute":MAILTO:institut@uvic.ca
END:VEVENT
END:VCALENDAR